BEGIN:VCALENDAR
VERSION:2.0
PRODID:-//Misioneras Teresitas - ECPv6.3.2//NONSGML v1.0//EN
CALSCALE:GREGORIAN
METHOD:PUBLISH
X-ORIGINAL-URL:https://misionerasteresitas.org
X-WR-CALDESC:Eventos para Misioneras Teresitas
REFRESH-INTERVAL;VALUE=DURATION:PT1H
X-Robots-Tag:noindex
X-PUBLISHED-TTL:PT1H
BEGIN:VTIMEZONE
TZID:America/New_York
BEGIN:DAYLIGHT
TZOFFSETFROM:-0500
TZOFFSETTO:-0400
TZNAME:EDT
DTSTART:20210314T070000
END:DAYLIGHT
BEGIN:STANDARD
TZOFFSETFROM:-0400
TZOFFSETTO:-0500
TZNAME:EST
DTSTART:20211107T060000
END:STANDARD
END:VTIMEZONE
BEGIN:VEVENT
DTSTART;TZID=America/New_York:20210101T080000
DTEND;TZID=America/New_York:20210101T170000
DTSTAMP:20260422T172734
CREATED:20210503T231858Z
LAST-MODIFIED:20210503T231858Z
UID:3454-1609488000-1609520400@misionerasteresitas.org
SUMMARY:Santa María Madre de Dios/Solemnidad.
DESCRIPTION:
URL:https://misionerasteresitas.org/evento/santa-maria-madre-de-dios-solemnidad/
END:VEVENT
BEGIN:VEVENT
DTSTART;TZID=America/New_York:20210101T080000
DTEND;TZID=America/New_York:20210101T170000
DTSTAMP:20260422T172734
CREATED:20210503T232048Z
LAST-MODIFIED:20210503T232048Z
UID:3459-1609488000-1609520400@misionerasteresitas.org
SUMMARY:Lanzamiento de la II etapa de la Ruta Vocacional-PJVM
DESCRIPTION:
URL:https://misionerasteresitas.org/evento/lanzamiento-de-la-ii-etapa-de-la-ruta-vocacional-pjvm/
END:VEVENT
BEGIN:VEVENT
DTSTART;TZID=America/New_York:20210103T080000
DTEND;TZID=America/New_York:20210103T170000
DTSTAMP:20260422T172734
CREATED:20210503T232240Z
LAST-MODIFIED:20210503T232530Z
UID:3461-1609660800-1609693200@misionerasteresitas.org
SUMMARY:Jornada de integración de Prenovicias.
DESCRIPTION:
URL:https://misionerasteresitas.org/evento/jornada-de-integracion-de-prenovicias/
END:VEVENT
BEGIN:VEVENT
DTSTART;TZID=America/New_York:20210104T080000
DTEND;TZID=America/New_York:20210104T170000
DTSTAMP:20260422T172734
CREATED:20210503T232711Z
LAST-MODIFIED:20210503T232711Z
UID:3464-1609747200-1609779600@misionerasteresitas.org
SUMMARY:4-9 Retiros Espirituales para Profesión Religiosa.
DESCRIPTION:
URL:https://misionerasteresitas.org/evento/4-9-retiros-espirituales-para-profesion-religiosa/
END:VEVENT
BEGIN:VEVENT
DTSTART;TZID=America/New_York:20210104T080000
DTEND;TZID=America/New_York:20210104T170000
DTSTAMP:20260422T172734
CREATED:20210503T232836Z
LAST-MODIFIED:20210503T232836Z
UID:3466-1609747200-1609779600@misionerasteresitas.org
SUMMARY:4-11 Inducción para paso al Noviciado
DESCRIPTION:
URL:https://misionerasteresitas.org/evento/4-11-induccion-para-paso-al-noviciado/
END:VEVENT
BEGIN:VEVENT
DTSTART;TZID=America/New_York:20210106T080000
DTEND;TZID=America/New_York:20210106T170000
DTSTAMP:20260422T172734
CREATED:20210503T233005Z
LAST-MODIFIED:20210503T233005Z
UID:3468-1609920000-1609952400@misionerasteresitas.org
SUMMARY:Epifanía/Solemnidad.
DESCRIPTION:
URL:https://misionerasteresitas.org/evento/epifania-solemnidad/
END:VEVENT
BEGIN:VEVENT
DTSTART;TZID=America/New_York:20210106T080000
DTEND;TZID=America/New_York:20210106T170000
DTSTAMP:20260422T172734
CREATED:20210503T233121Z
LAST-MODIFIED:20210503T233121Z
UID:3473-1609920000-1609952400@misionerasteresitas.org
SUMMARY:Apertura oficial del Año de las Constituciones. Envió de taller N° 1
DESCRIPTION:
URL:https://misionerasteresitas.org/evento/apertura-oficial-del-ano-de-las-constituciones-envio-de-taller-n-1/
END:VEVENT
BEGIN:VEVENT
DTSTART;TZID=America/New_York:20210110T080000
DTEND;TZID=America/New_York:20210110T170000
DTSTAMP:20260422T172734
CREATED:20210503T233411Z
LAST-MODIFIED:20210503T233411Z
UID:3478-1610265600-1610298000@misionerasteresitas.org
SUMMARY:Bautismo del Señor/Fiesta.
DESCRIPTION:
URL:https://misionerasteresitas.org/evento/bautismo-del-senor-fiesta/
END:VEVENT
BEGIN:VEVENT
DTSTART;TZID=America/New_York:20210110T080000
DTEND;TZID=America/New_York:20210110T170000
DTSTAMP:20260422T172734
CREATED:20210503T233502Z
LAST-MODIFIED:20210503T233502Z
UID:3480-1610265600-1610298000@misionerasteresitas.org
SUMMARY:Ceremonia de Profesión. Casa Madre
DESCRIPTION:
URL:https://misionerasteresitas.org/evento/ceremonia-de-profesion-casa-madre/
END:VEVENT
BEGIN:VEVENT
DTSTART;TZID=America/New_York:20210111T080000
DTEND;TZID=America/New_York:20210111T170000
DTSTAMP:20260422T172734
CREATED:20210503T233619Z
LAST-MODIFIED:20210503T233619Z
UID:3482-1610352000-1610384400@misionerasteresitas.org
SUMMARY:11-17 Retiro preparatorio de paso al Noviciado - Casa Madre
DESCRIPTION:
URL:https://misionerasteresitas.org/evento/11-17-retiro-preparatorio-de-paso-al-noviciado-casa-madre/
END:VEVENT
BEGIN:VEVENT
DTSTART;TZID=America/New_York:20210115T080000
DTEND;TZID=America/New_York:20210115T170000
DTSTAMP:20260422T172734
CREATED:20210503T233708Z
LAST-MODIFIED:20210503T233708Z
UID:3484-1610697600-1610730000@misionerasteresitas.org
SUMMARY:Reunión de Consejo.
DESCRIPTION:
URL:https://misionerasteresitas.org/evento/reunion-de-consejo/
END:VEVENT
BEGIN:VEVENT
DTSTART;TZID=America/New_York:20210118T080000
DTEND;TZID=America/New_York:20210118T170000
DTSTAMP:20260422T172734
CREATED:20210503T233807Z
LAST-MODIFIED:20210503T233807Z
UID:3486-1610956800-1610989200@misionerasteresitas.org
SUMMARY:Ceremonia de paso al Noviciado.
DESCRIPTION:
URL:https://misionerasteresitas.org/evento/ceremonia-de-paso-al-noviciado/
END:VEVENT
BEGIN:VEVENT
DTSTART;TZID=America/New_York:20210119T080000
DTEND;TZID=America/New_York:20210119T170000
DTSTAMP:20260422T172734
CREATED:20210503T234011Z
LAST-MODIFIED:20210503T234011Z
UID:3488-1611043200-1611075600@misionerasteresitas.org
SUMMARY:19-21 Encuentro virtual de Pastoral Indigenista.
DESCRIPTION:
URL:https://misionerasteresitas.org/evento/19-21-encuentro-virtual-de-pastoral-indigenista/
END:VEVENT
BEGIN:VEVENT
DTSTART;TZID=America/New_York:20210122T080000
DTEND;TZID=America/New_York:20210122T170000
DTSTAMP:20260422T172734
CREATED:20210503T234201Z
LAST-MODIFIED:20210503T234201Z
UID:3490-1611302400-1611334800@misionerasteresitas.org
SUMMARY:Salida de Novicias a experiencia apostólica.
DESCRIPTION:
URL:https://misionerasteresitas.org/evento/salida-de-novicias-a-experiencia-apostolica/
END:VEVENT
BEGIN:VEVENT
DTSTART;TZID=America/New_York:20210125T080000
DTEND;TZID=America/New_York:20210125T170000
DTSTAMP:20260422T172734
CREATED:20210503T234302Z
LAST-MODIFIED:20210503T234302Z
UID:3493-1611561600-1611594000@misionerasteresitas.org
SUMMARY:Conversión de San Pablo/Fiesta
DESCRIPTION:
URL:https://misionerasteresitas.org/evento/conversion-de-san-pablo-fiesta/
END:VEVENT
BEGIN:VEVENT
DTSTART;TZID=America/New_York:20210201T080000
DTEND;TZID=America/New_York:20210201T170000
DTSTAMP:20260422T172734
CREATED:20210503T234406Z
LAST-MODIFIED:20210503T234406Z
UID:3495-1612166400-1612198800@misionerasteresitas.org
SUMMARY:Envío taller N° 2
DESCRIPTION:
URL:https://misionerasteresitas.org/evento/envio-taller-n-2/
END:VEVENT
BEGIN:VEVENT
DTSTART;TZID=America/New_York:20210202T080000
DTEND;TZID=America/New_York:20210202T170000
DTSTAMP:20260422T172734
CREATED:20210503T234505Z
LAST-MODIFIED:20210503T234505Z
UID:3497-1612252800-1612285200@misionerasteresitas.org
SUMMARY:Jornada mundial de la vida consagrada.
DESCRIPTION:
URL:https://misionerasteresitas.org/evento/jornada-mundial-de-la-vida-consagrada/
END:VEVENT
BEGIN:VEVENT
DTSTART;TZID=America/New_York:20210202T080000
DTEND;TZID=America/New_York:20210202T170000
DTSTAMP:20260422T172734
CREATED:20210503T234615Z
LAST-MODIFIED:20210503T234615Z
UID:3499-1612252800-1612285200@misionerasteresitas.org
SUMMARY:Aniversario 35 Hnas. Auxiliadoras de Cristo Sacerdote
DESCRIPTION:
URL:https://misionerasteresitas.org/evento/aniversario-35-hnas-auxiliadoras-de-cristo-sacerdote/
END:VEVENT
BEGIN:VEVENT
DTSTART;TZID=America/New_York:20210202T080000
DTEND;TZID=America/New_York:20210202T170000
DTSTAMP:20260422T172734
CREATED:20210503T234728Z
LAST-MODIFIED:20210503T234728Z
UID:3501-1612252800-1612285200@misionerasteresitas.org
SUMMARY:Bodas de Plata del Prenoviciado MAB
DESCRIPTION:
URL:https://misionerasteresitas.org/evento/bodas-de-plata-del-prenoviciado-mab/
END:VEVENT
BEGIN:VEVENT
DTSTART;TZID=America/New_York:20210204T080000
DTEND;TZID=America/New_York:20210204T170000
DTSTAMP:20260422T172734
CREATED:20210503T234823Z
LAST-MODIFIED:20210503T234823Z
UID:3503-1612425600-1612458000@misionerasteresitas.org
SUMMARY:Reunión de Consejo.
DESCRIPTION:
URL:https://misionerasteresitas.org/evento/reunion-de-consejo-2/
END:VEVENT
BEGIN:VEVENT
DTSTART;TZID=America/New_York:20210206T080000
DTEND;TZID=America/New_York:20210206T170000
DTSTAMP:20260422T172734
CREATED:20210503T235052Z
LAST-MODIFIED:20210503T235052Z
UID:3505-1612598400-1612630800@misionerasteresitas.org
SUMMARY:Aniversario de Profesión Religiosa de la Madre Rosalba Día de la gratitud en la Congregación.
DESCRIPTION:
URL:https://misionerasteresitas.org/evento/aniversario-de-profesion-religiosa-de-la-madre-rosalba-dia-de-la-gratitud-en-la-congregacion/
END:VEVENT
BEGIN:VEVENT
DTSTART;TZID=America/New_York:20210206T080000
DTEND;TZID=America/New_York:20210206T170000
DTSTAMP:20260422T172734
CREATED:20210503T235333Z
LAST-MODIFIED:20210503T235333Z
UID:3513-1612598400-1612630800@misionerasteresitas.org
SUMMARY:Gira vocacional en Segovia/Animadora vocacional del G. G
DESCRIPTION:
URL:https://misionerasteresitas.org/evento/gira-vocacional-en-segovia-animadora-vocacional-del-g-g/
END:VEVENT
BEGIN:VEVENT
DTSTART;TZID=America/New_York:20210211T080000
DTEND;TZID=America/New_York:20210211T170000
DTSTAMP:20260422T172734
CREATED:20210503T235454Z
LAST-MODIFIED:20210503T235454Z
UID:3515-1613030400-1613062800@misionerasteresitas.org
SUMMARY:Jornada mundial del enfermo.
DESCRIPTION:
URL:https://misionerasteresitas.org/evento/jornada-mundial-del-enfermo/
END:VEVENT
BEGIN:VEVENT
DTSTART;TZID=America/New_York:20210211T080000
DTEND;TZID=America/New_York:20210211T170000
DTSTAMP:20260422T172734
CREATED:20210503T235644Z
LAST-MODIFIED:20210503T235644Z
UID:3517-1613030400-1613062800@misionerasteresitas.org
SUMMARY:Encuentro de superiores generales de la Familia MAB
DESCRIPTION:
URL:https://misionerasteresitas.org/evento/encuentro-de-superiores-generales-de-la-familia-mab/
END:VEVENT
BEGIN:VEVENT
DTSTART;TZID=America/New_York:20210212T080000
DTEND;TZID=America/New_York:20210212T170000
DTSTAMP:20260422T172734
CREATED:20210503T235931Z
LAST-MODIFIED:20210503T235931Z
UID:3522-1613116800-1613149200@misionerasteresitas.org
SUMMARY:Encuentro actores causa del Padre Fundador.
DESCRIPTION:
URL:https://misionerasteresitas.org/evento/encuentro-actores-causa-del-padre-fundador/
END:VEVENT
BEGIN:VEVENT
DTSTART;TZID=America/New_York:20210213T080000
DTEND;TZID=America/New_York:20210213T170000
DTSTAMP:20260422T172734
CREATED:20210504T000157Z
LAST-MODIFIED:20210504T000157Z
UID:3524-1613203200-1613235600@misionerasteresitas.org
SUMMARY:Encuentro de Gobiernos Generales Flia. MAB
DESCRIPTION:
URL:https://misionerasteresitas.org/evento/encuentro-de-gobiernos-generales-flia-mab/
END:VEVENT
BEGIN:VEVENT
DTSTART;TZID=America/New_York:20210213T080000
DTEND;TZID=America/New_York:20210213T170000
DTSTAMP:20260422T172734
CREATED:20210504T000316Z
LAST-MODIFIED:20210504T000316Z
UID:3527-1613203200-1613235600@misionerasteresitas.org
SUMMARY:13-21Visita Canónica en Celica. G. G.
DESCRIPTION:
URL:https://misionerasteresitas.org/evento/13-21visita-canonica-en-celica-g-g/
END:VEVENT
BEGIN:VEVENT
DTSTART;TZID=America/New_York:20210214T080000
DTEND;TZID=America/New_York:20210214T170000
DTSTAMP:20260422T172734
CREATED:20210504T000535Z
LAST-MODIFIED:20210504T000535Z
UID:3529-1613289600-1613322000@misionerasteresitas.org
SUMMARY:Encuentro virtual con jóvenes vocacionales del Gobierno General.
DESCRIPTION:
URL:https://misionerasteresitas.org/evento/encuentro-virtual-con-jovenes-vocacionales-del-gobierno-general/
END:VEVENT
BEGIN:VEVENT
DTSTART;TZID=America/New_York:20210217T080000
DTEND;TZID=America/New_York:20210217T170000
DTSTAMP:20260422T172734
CREATED:20210504T000717Z
LAST-MODIFIED:20210504T000717Z
UID:3531-1613548800-1613581200@misionerasteresitas.org
SUMMARY:Miércoles de Ceniza
DESCRIPTION:
URL:https://misionerasteresitas.org/evento/miercoles-de-ceniza/
END:VEVENT
BEGIN:VEVENT
DTSTART;TZID=America/New_York:20210220T080000
DTEND;TZID=America/New_York:20210220T170000
DTSTAMP:20260422T172734
CREATED:20210504T000844Z
LAST-MODIFIED:20210504T000844Z
UID:3536-1613808000-1613840400@misionerasteresitas.org
SUMMARY:Encuentro Vocacional Etapa Desperatar-PJVM
DESCRIPTION:
URL:https://misionerasteresitas.org/evento/encuentro-vocacional-etapa-desperatar-pjvm/
END:VEVENT
END:VCALENDAR