BEGIN:VCALENDAR
VERSION:2.0
PRODID:-//Misioneras Teresitas - ECPv6.3.2//NONSGML v1.0//EN
CALSCALE:GREGORIAN
METHOD:PUBLISH
X-WR-CALNAME:Misioneras Teresitas
X-ORIGINAL-URL:https://misionerasteresitas.org
X-WR-CALDESC:Eventos para Misioneras Teresitas
REFRESH-INTERVAL;VALUE=DURATION:PT1H
X-Robots-Tag:noindex
X-PUBLISHED-TTL:PT1H
BEGIN:VTIMEZONE
TZID:America/New_York
BEGIN:DAYLIGHT
TZOFFSETFROM:-0500
TZOFFSETTO:-0400
TZNAME:EDT
DTSTART:20210314T070000
END:DAYLIGHT
BEGIN:STANDARD
TZOFFSETFROM:-0400
TZOFFSETTO:-0500
TZNAME:EST
DTSTART:20211107T060000
END:STANDARD
BEGIN:DAYLIGHT
TZOFFSETFROM:-0500
TZOFFSETTO:-0400
TZNAME:EDT
DTSTART:20220313T070000
END:DAYLIGHT
BEGIN:STANDARD
TZOFFSETFROM:-0400
TZOFFSETTO:-0500
TZNAME:EST
DTSTART:20221106T060000
END:STANDARD
END:VTIMEZONE
BEGIN:VEVENT
DTSTART;TZID=America/New_York:20211225T080000
DTEND;TZID=America/New_York:20211231T170000
DTSTAMP:20260421T142115
CREATED:20210504T204554Z
LAST-MODIFIED:20210504T205014Z
UID:4137-1640419200-1640970000@misionerasteresitas.org
SUMMARY:Octava de Navidad
DESCRIPTION:
URL:https://misionerasteresitas.org/evento/octava-de-navidad/
END:VEVENT
BEGIN:VEVENT
DTSTART;TZID=America/New_York:20220101T080000
DTEND;TZID=America/New_York:20220101T170000
DTSTAMP:20260421T142115
CREATED:20210504T205104Z
LAST-MODIFIED:20210504T205104Z
UID:4141-1641024000-1641056400@misionerasteresitas.org
SUMMARY:María Madre de Dios/Solemnidad
DESCRIPTION:
URL:https://misionerasteresitas.org/evento/maria-madre-de-dios-solemnidad/
END:VEVENT
BEGIN:VEVENT
DTSTART;TZID=America/New_York:20220101T080000
DTEND;TZID=America/New_York:20220101T170000
DTSTAMP:20260421T142115
CREATED:20210504T205148Z
LAST-MODIFIED:20210504T205148Z
UID:4143-1641024000-1641056400@misionerasteresitas.org
SUMMARY:1-8 Retiro de Novicias que van a Profesar.
DESCRIPTION:
URL:https://misionerasteresitas.org/evento/1-8-retiro-de-novicias-que-van-a-profesar/
END:VEVENT
BEGIN:VEVENT
DTSTART;TZID=America/New_York:20220105T080000
DTEND;TZID=America/New_York:20220105T170000
DTSTAMP:20260421T142115
CREATED:20210504T205225Z
LAST-MODIFIED:20210504T205225Z
UID:4145-1641369600-1641402000@misionerasteresitas.org
SUMMARY:Llegada Prenovicias de Bogotá al Noviciado.
DESCRIPTION:
URL:https://misionerasteresitas.org/evento/llegada-prenovicias-de-bogota-al-noviciado/
END:VEVENT
BEGIN:VEVENT
DTSTART;TZID=America/New_York:20220107T080000
DTEND;TZID=America/New_York:20220107T170000
DTSTAMP:20260421T142115
CREATED:20210504T205251Z
LAST-MODIFIED:20210504T205251Z
UID:4147-1641542400-1641574800@misionerasteresitas.org
SUMMARY:7-8 Retiro padres de familia de las Novicias que van a Profesar.
DESCRIPTION:
URL:https://misionerasteresitas.org/evento/7-8-retiro-padres-de-familia-de-las-novicias-que-van-a-profesar/
END:VEVENT
BEGIN:VEVENT
DTSTART;TZID=America/New_York:20220109T080000
DTEND;TZID=America/New_York:20220109T170000
DTSTAMP:20260421T142115
CREATED:20210504T205321Z
LAST-MODIFIED:20210504T205321Z
UID:4149-1641715200-1641747600@misionerasteresitas.org
SUMMARY:Ceremonia de Profesión Religiosa. Casa Madre
DESCRIPTION:
URL:https://misionerasteresitas.org/evento/ceremonia-de-profesion-religiosa-casa-madre/
END:VEVENT
BEGIN:VEVENT
DTSTART;TZID=America/New_York:20220110T080000
DTEND;TZID=America/New_York:20220110T170000
DTSTAMP:20260421T142115
CREATED:20210504T205441Z
LAST-MODIFIED:20210504T205441Z
UID:4151-1641801600-1641834000@misionerasteresitas.org
SUMMARY:10 -15 Retro de paso al Noviciado.
DESCRIPTION:
URL:https://misionerasteresitas.org/evento/10-15-retro-de-paso-al-noviciado/
END:VEVENT
BEGIN:VEVENT
DTSTART;TZID=America/New_York:20220110T080000
DTEND;TZID=America/New_York:20220110T170000
DTSTAMP:20260421T142115
CREATED:20210504T205512Z
LAST-MODIFIED:20210504T205512Z
UID:4153-1641801600-1641834000@misionerasteresitas.org
SUMMARY:10-11 Inducción a Neo- profesas
DESCRIPTION:
URL:https://misionerasteresitas.org/evento/10-11-induccion-a-neo-profesas/
END:VEVENT
BEGIN:VEVENT
DTSTART;TZID=America/New_York:20220111T080000
DTEND;TZID=America/New_York:20220111T170000
DTSTAMP:20260421T142115
CREATED:20210504T205553Z
LAST-MODIFIED:20210504T205553Z
UID:4155-1641888000-1641920400@misionerasteresitas.org
SUMMARY:Inducción a aspirantes que inician el Prenoviciado.
DESCRIPTION:
URL:https://misionerasteresitas.org/evento/induccion-a-aspirantes-que-inician-el-prenoviciado/
END:VEVENT
BEGIN:VEVENT
DTSTART;TZID=America/New_York:20220116T080000
DTEND;TZID=America/New_York:20220116T170000
DTSTAMP:20260421T142115
CREATED:20210504T205628Z
LAST-MODIFIED:20210504T205628Z
UID:4157-1642320000-1642352400@misionerasteresitas.org
SUMMARY:Ceremonia de paso al Noviciado.
DESCRIPTION:
URL:https://misionerasteresitas.org/evento/ceremonia-de-paso-al-noviciado-2/
END:VEVENT
BEGIN:VEVENT
DTSTART;TZID=America/New_York:20220119T080000
DTEND;TZID=America/New_York:20220119T170000
DTSTAMP:20260421T142115
CREATED:20210504T205657Z
LAST-MODIFIED:20210504T205657Z
UID:4159-1642579200-1642611600@misionerasteresitas.org
SUMMARY:Salida de Novicias a experiencia
DESCRIPTION:
URL:https://misionerasteresitas.org/evento/salida-de-novicias-a-experiencia/
END:VEVENT
END:VCALENDAR