BEGIN:VCALENDAR
VERSION:2.0
PRODID:-//Misioneras Teresitas - ECPv6.3.2//NONSGML v1.0//EN
CALSCALE:GREGORIAN
METHOD:PUBLISH
X-WR-CALNAME:Misioneras Teresitas
X-ORIGINAL-URL:https://misionerasteresitas.org
X-WR-CALDESC:Eventos para Misioneras Teresitas
REFRESH-INTERVAL;VALUE=DURATION:PT1H
X-Robots-Tag:noindex
X-PUBLISHED-TTL:PT1H
BEGIN:VTIMEZONE
TZID:America/New_York
BEGIN:DAYLIGHT
TZOFFSETFROM:-0500
TZOFFSETTO:-0400
TZNAME:EDT
DTSTART:20210314T070000
END:DAYLIGHT
BEGIN:STANDARD
TZOFFSETFROM:-0400
TZOFFSETTO:-0500
TZNAME:EST
DTSTART:20211107T060000
END:STANDARD
END:VTIMEZONE
BEGIN:VEVENT
DTSTART;TZID=America/New_York:20210905T080000
DTEND;TZID=America/New_York:20210905T170000
DTSTAMP:20260421T101752
CREATED:20210504T193059Z
LAST-MODIFIED:20210504T193059Z
UID:4011-1630828800-1630861200@misionerasteresitas.org
SUMMARY:Encuentro virtual con jóvenes vocacionales del Gobierno General
DESCRIPTION:
URL:https://misionerasteresitas.org/evento/encuentro-virtual-con-jovenes-vocacionales-del-gobierno-general-2/
END:VEVENT
BEGIN:VEVENT
DTSTART;TZID=America/New_York:20210906T080000
DTEND;TZID=America/New_York:20210906T170000
DTSTAMP:20260421T101752
CREATED:20210504T193125Z
LAST-MODIFIED:20210504T193125Z
UID:4013-1630915200-1630947600@misionerasteresitas.org
SUMMARY:Encuentro vocacional con la comunidad de la Casa Madre
DESCRIPTION:
URL:https://misionerasteresitas.org/evento/encuentro-vocacional-con-la-comunidad-de-la-casa-madre/
END:VEVENT
BEGIN:VEVENT
DTSTART;TZID=America/New_York:20210906T080000
DTEND;TZID=America/New_York:20210906T170000
DTSTAMP:20260421T101752
CREATED:20210504T193150Z
LAST-MODIFIED:20210504T193150Z
UID:4015-1630915200-1630947600@misionerasteresitas.org
SUMMARY:Reunión de Consejo
DESCRIPTION:
URL:https://misionerasteresitas.org/evento/reunion-de-consejo-9/
END:VEVENT
BEGIN:VEVENT
DTSTART;TZID=America/New_York:20210908T080000
DTEND;TZID=America/New_York:20210908T170000
DTSTAMP:20260421T101752
CREATED:20210504T193218Z
LAST-MODIFIED:20210504T193218Z
UID:4017-1631088000-1631120400@misionerasteresitas.org
SUMMARY:Nacimiento de la Virgen María/Fiesta.
DESCRIPTION:
URL:https://misionerasteresitas.org/evento/nacimiento-de-la-virgen-maria-fiesta/
END:VEVENT
BEGIN:VEVENT
DTSTART;TZID=America/New_York:20210908T080000
DTEND;TZID=America/New_York:20210908T170000
DTSTAMP:20260421T101752
CREATED:20210504T193301Z
LAST-MODIFIED:20210504T193301Z
UID:4019-1631088000-1631120400@misionerasteresitas.org
SUMMARY:Día patronal Hijas de la Misericordia.
DESCRIPTION:
URL:https://misionerasteresitas.org/evento/dia-patronal-hijas-de-la-misericordia/
END:VEVENT
BEGIN:VEVENT
DTSTART;TZID=America/New_York:20210909T080000
DTEND;TZID=America/New_York:20210909T170000
DTSTAMP:20260421T101752
CREATED:20210504T193325Z
LAST-MODIFIED:20210504T193325Z
UID:4021-1631174400-1631206800@misionerasteresitas.org
SUMMARY:Aniversario 133 del nacimiento del Padre Fundador
DESCRIPTION:
URL:https://misionerasteresitas.org/evento/aniversario-133-del-nacimiento-del-padre-fundador/
END:VEVENT
BEGIN:VEVENT
DTSTART;TZID=America/New_York:20210910T080000
DTEND;TZID=America/New_York:20210910T170000
DTSTAMP:20260421T101752
CREATED:20210504T193351Z
LAST-MODIFIED:20210504T193351Z
UID:4023-1631260800-1631293200@misionerasteresitas.org
SUMMARY:10-16 Visita Canónica en Sonsón y Nazaret. G.G.
DESCRIPTION:
URL:https://misionerasteresitas.org/evento/10-16-visita-canonica-en-sonson-y-nazaret-g-g/
END:VEVENT
BEGIN:VEVENT
DTSTART;TZID=America/New_York:20210911T080000
DTEND;TZID=America/New_York:20210911T170000
DTSTAMP:20260421T101752
CREATED:20210504T193417Z
LAST-MODIFIED:20210504T193417Z
UID:4025-1631347200-1631379600@misionerasteresitas.org
SUMMARY:Acompañamiento a jóvenes de OPTAR\, casas dependientes del Gobierno General
DESCRIPTION:
URL:https://misionerasteresitas.org/evento/acompanamiento-a-jovenes-de-optar-casas-dependientes-del-gobierno-general/
END:VEVENT
BEGIN:VEVENT
DTSTART;TZID=America/New_York:20210915T080000
DTEND;TZID=America/New_York:20210915T170000
DTSTAMP:20260421T101752
CREATED:20210504T193442Z
LAST-MODIFIED:20210504T193442Z
UID:4027-1631692800-1631725200@misionerasteresitas.org
SUMMARY:Independencia de Guatemala
DESCRIPTION:
URL:https://misionerasteresitas.org/evento/independencia-de-guatemala/
END:VEVENT
BEGIN:VEVENT
DTSTART;TZID=America/New_York:20210919T080000
DTEND;TZID=America/New_York:20210919T170000
DTSTAMP:20260421T101752
CREATED:20210504T193510Z
LAST-MODIFIED:20210504T193510Z
UID:4029-1632038400-1632070800@misionerasteresitas.org
SUMMARY:Día del amor y la amistad.
DESCRIPTION:
URL:https://misionerasteresitas.org/evento/dia-del-amor-y-la-amistad/
END:VEVENT
BEGIN:VEVENT
DTSTART;TZID=America/New_York:20210920T080000
DTEND;TZID=America/New_York:20210920T170000
DTSTAMP:20260421T101752
CREATED:20210504T193542Z
LAST-MODIFIED:20210628T000852Z
UID:4031-1632124800-1632157200@misionerasteresitas.org
SUMMARY:20-28 VI Semana MAB.
DESCRIPTION:
URL:https://misionerasteresitas.org/evento/20-28-vi-semana-mab/
ATTACH;FMTTYPE=image/jpeg:https://misionerasteresitas.org/wp-content/uploads/2021/06/semana-MAB.jpg
END:VEVENT
BEGIN:VEVENT
DTSTART;TZID=America/New_York:20210920T080000
DTEND;TZID=America/New_York:20210920T170000
DTSTAMP:20260421T101752
CREATED:20210504T193604Z
LAST-MODIFIED:20210504T193604Z
UID:4033-1632124800-1632157200@misionerasteresitas.org
SUMMARY:Reunión de Consejo
DESCRIPTION:
URL:https://misionerasteresitas.org/evento/reunion-de-consejo-10/
END:VEVENT
BEGIN:VEVENT
DTSTART;TZID=America/New_York:20210921T080000
DTEND;TZID=America/New_York:20210921T170000
DTSTAMP:20260421T101752
CREATED:20210504T193632Z
LAST-MODIFIED:20210504T193632Z
UID:4035-1632211200-1632243600@misionerasteresitas.org
SUMMARY:San Mateo Apóstol Evangelista/Fiesta.
DESCRIPTION:
URL:https://misionerasteresitas.org/evento/san-mateo-apostol-evangelista-fiesta/
END:VEVENT
BEGIN:VEVENT
DTSTART;TZID=America/New_York:20210922T080000
DTEND;TZID=America/New_York:20210922T170000
DTSTAMP:20260421T101752
CREATED:20210504T195046Z
LAST-MODIFIED:20210504T195046Z
UID:4037-1632297600-1632330000@misionerasteresitas.org
SUMMARY:22-30 Novena a Santa Teresita
DESCRIPTION:
URL:https://misionerasteresitas.org/evento/22-30-novena-a-santa-teresita/
END:VEVENT
BEGIN:VEVENT
DTSTART;TZID=America/New_York:20210924T080000
DTEND;TZID=America/New_York:20210924T170000
DTSTAMP:20260421T101752
CREATED:20210504T195112Z
LAST-MODIFIED:20210504T195112Z
UID:4039-1632470400-1632502800@misionerasteresitas.org
SUMMARY:24-25 Asamblea Evaluativa Delegación San José. - Europa– Benín\, Costa de Marfil y Kenia.
DESCRIPTION:
URL:https://misionerasteresitas.org/evento/24-25-asamblea-evaluativa-delegacion-san-jose-europa-benin-costa-de-marfil-y-kenia/
END:VEVENT
BEGIN:VEVENT
DTSTART;TZID=America/New_York:20210928T080000
DTEND;TZID=America/New_York:20210928T170000
DTSTAMP:20260421T101752
CREATED:20210504T195140Z
LAST-MODIFIED:20210504T195140Z
UID:4041-1632816000-1632848400@misionerasteresitas.org
SUMMARY:Independencia de México.
DESCRIPTION:
URL:https://misionerasteresitas.org/evento/independencia-de-mexico/
END:VEVENT
BEGIN:VEVENT
DTSTART;TZID=America/New_York:20210929T080000
DTEND;TZID=America/New_York:20210929T170000
DTSTAMP:20260421T101752
CREATED:20210504T195205Z
LAST-MODIFIED:20210504T195205Z
UID:4043-1632902400-1632934800@misionerasteresitas.org
SUMMARY:Aniversario 50 de la pascua del Padre Fundador.
DESCRIPTION:
URL:https://misionerasteresitas.org/evento/aniversario-50-de-la-pascua-del-padre-fundador/
END:VEVENT
BEGIN:VEVENT
DTSTART;TZID=America/New_York:20210930T080000
DTEND;TZID=America/New_York:20210930T170000
DTSTAMP:20260421T101752
CREATED:20210504T195228Z
LAST-MODIFIED:20210504T195228Z
UID:4045-1632988800-1633021200@misionerasteresitas.org
SUMMARY:Ayuno y abstinencia preparatorio a la fiesta patronal.
DESCRIPTION:
URL:https://misionerasteresitas.org/evento/ayuno-y-abstinencia-preparatorio-a-la-fiesta-patronal/
END:VEVENT
BEGIN:VEVENT
DTSTART;TZID=America/New_York:20211001T080000
DTEND;TZID=America/New_York:20211001T170000
DTSTAMP:20260421T101752
CREATED:20210504T195340Z
LAST-MODIFIED:20210504T195340Z
UID:4047-1633075200-1633107600@misionerasteresitas.org
SUMMARY:Fiesta patronal de la Congregación
DESCRIPTION:
URL:https://misionerasteresitas.org/evento/fiesta-patronal-de-la-congregacion/
END:VEVENT
BEGIN:VEVENT
DTSTART;TZID=America/New_York:20211001T080000
DTEND;TZID=America/New_York:20211001T170000
DTSTAMP:20260421T101752
CREATED:20210504T195411Z
LAST-MODIFIED:20210504T195411Z
UID:4049-1633075200-1633107600@misionerasteresitas.org
SUMMARY:Envío taller N° 10
DESCRIPTION:
URL:https://misionerasteresitas.org/evento/envio-taller-n-10/
END:VEVENT
BEGIN:VEVENT
DTSTART;TZID=America/New_York:20211004T080000
DTEND;TZID=America/New_York:20211004T170000
DTSTAMP:20260421T101752
CREATED:20210504T195438Z
LAST-MODIFIED:20210504T195438Z
UID:4051-1633334400-1633366800@misionerasteresitas.org
SUMMARY:Aporte misionero para las redes sociales –PJVM.
DESCRIPTION:
URL:https://misionerasteresitas.org/evento/aporte-misionero-para-las-redes-sociales-pjvm/
END:VEVENT
BEGIN:VEVENT
DTSTART;TZID=America/New_York:20211004T080000
DTEND;TZID=America/New_York:20211004T170000
DTSTAMP:20260421T101752
CREATED:20210504T195515Z
LAST-MODIFIED:20210504T195515Z
UID:4053-1633334400-1633366800@misionerasteresitas.org
SUMMARY:Reunión de Consejo
DESCRIPTION:
URL:https://misionerasteresitas.org/evento/reunion-de-consejo-11/
END:VEVENT
BEGIN:VEVENT
DTSTART;TZID=America/New_York:20211008T080000
DTEND;TZID=America/New_York:20211008T170000
DTSTAMP:20260421T101752
CREATED:20210504T195540Z
LAST-MODIFIED:20210504T195540Z
UID:4055-1633680000-1633712400@misionerasteresitas.org
SUMMARY:8 al 10 Campomisión virtual – PJVM
DESCRIPTION:
URL:https://misionerasteresitas.org/evento/8-al-10-campomision-virtual-pjvm/
END:VEVENT
BEGIN:VEVENT
DTSTART;TZID=America/New_York:20211011T080000
DTEND;TZID=America/New_York:20211011T170000
DTSTAMP:20260421T101752
CREATED:20210504T195611Z
LAST-MODIFIED:20210504T195611Z
UID:4057-1633939200-1633971600@misionerasteresitas.org
SUMMARY:Aniversario fundación Hermanas Hijas de Ntra. Sra. de las Misericordias.
DESCRIPTION:
URL:https://misionerasteresitas.org/evento/aniversario-fundacion-hermanas-hijas-de-ntra-sra-de-las-misericordias/
END:VEVENT
BEGIN:VEVENT
DTSTART;TZID=America/New_York:20211012T080000
DTEND;TZID=America/New_York:20211012T170000
DTSTAMP:20260421T101752
CREATED:20210504T195640Z
LAST-MODIFIED:20210504T195640Z
UID:4059-1634025600-1634058000@misionerasteresitas.org
SUMMARY:Día de la Raza
DESCRIPTION:
URL:https://misionerasteresitas.org/evento/dia-de-la-raza/
END:VEVENT
BEGIN:VEVENT
DTSTART;TZID=America/New_York:20211015T080000
DTEND;TZID=America/New_York:20211015T170000
DTSTAMP:20260421T101752
CREATED:20210504T195712Z
LAST-MODIFIED:20210504T195712Z
UID:4061-1634284800-1634317200@misionerasteresitas.org
SUMMARY:15-18 Encuentro anual de LAMITEA
DESCRIPTION:
URL:https://misionerasteresitas.org/evento/15-18-encuentro-anual-de-lamitea/
END:VEVENT
BEGIN:VEVENT
DTSTART;TZID=America/New_York:20211018T080000
DTEND;TZID=America/New_York:20211018T170000
DTSTAMP:20260421T101752
CREATED:20210504T202543Z
LAST-MODIFIED:20210504T202543Z
UID:4063-1634544000-1634576400@misionerasteresitas.org
SUMMARY:San Lucas Evangelista/Fiesta.
DESCRIPTION:
URL:https://misionerasteresitas.org/evento/san-lucas-evangelista-fiesta/
END:VEVENT
BEGIN:VEVENT
DTSTART;TZID=America/New_York:20211018T080000
DTEND;TZID=America/New_York:20211018T170000
DTSTAMP:20260421T101752
CREATED:20210504T202613Z
LAST-MODIFIED:20210504T202613Z
UID:4065-1634544000-1634576400@misionerasteresitas.org
SUMMARY:18-23 Encuentro virtual de Gobiernos.
DESCRIPTION:
URL:https://misionerasteresitas.org/evento/18-23-encuentro-virtual-de-gobiernos/
END:VEVENT
BEGIN:VEVENT
DTSTART;TZID=America/New_York:20211023T080000
DTEND;TZID=America/New_York:20211023T170000
DTSTAMP:20260421T101752
CREATED:20210504T202641Z
LAST-MODIFIED:20210504T202641Z
UID:4067-1634976000-1635008400@misionerasteresitas.org
SUMMARY:Reunión del equipo de PJVM /Sede General
DESCRIPTION:
URL:https://misionerasteresitas.org/evento/reunion-del-equipo-de-pjvm-sede-general-2/
END:VEVENT
BEGIN:VEVENT
DTSTART;TZID=America/New_York:20211024T080000
DTEND;TZID=America/New_York:20211024T170000
DTSTAMP:20260421T101752
CREATED:20210504T202707Z
LAST-MODIFIED:20210928T040457Z
UID:4069-1635062400-1635094800@misionerasteresitas.org
SUMMARY:DOMUND
DESCRIPTION:DOMUND\, DOMINGO MUNDIAL DE LAS MISIONES\nEl Domund es una Jornada universal que se celebra cada año en todo el mundo\, el penúltimo domingo de octubre\, para apoyar a los misioneros en su labor evangelizadora\, desarrollada entre los más pobres. \nEl Domund es una llamada a la responsabilidad de todos los cristianos en la evangelización. Es el día en que la Iglesia lanza una especial invitación a amar y apoyar la causa misionera\, ayudando a los misioneros. \n 
URL:https://misionerasteresitas.org/evento/domund/
ATTACH;FMTTYPE=image/jpeg:https://misionerasteresitas.org/wp-content/uploads/2021/09/domund2021_cab.jpg
ORGANIZER;CN="Misioneras Teresitas":MAILTO:info@example.com
END:VEVENT
END:VCALENDAR