BEGIN:VCALENDAR
VERSION:2.0
PRODID:-//Misioneras Teresitas - ECPv6.3.2//NONSGML v1.0//EN
CALSCALE:GREGORIAN
METHOD:PUBLISH
X-WR-CALNAME:Misioneras Teresitas
X-ORIGINAL-URL:https://misionerasteresitas.org
X-WR-CALDESC:Eventos para Misioneras Teresitas
REFRESH-INTERVAL;VALUE=DURATION:PT1H
X-Robots-Tag:noindex
X-PUBLISHED-TTL:PT1H
BEGIN:VTIMEZONE
TZID:America/New_York
BEGIN:DAYLIGHT
TZOFFSETFROM:-0500
TZOFFSETTO:-0400
TZNAME:EDT
DTSTART:20210314T070000
END:DAYLIGHT
BEGIN:STANDARD
TZOFFSETFROM:-0400
TZOFFSETTO:-0500
TZNAME:EST
DTSTART:20211107T060000
END:STANDARD
END:VTIMEZONE
BEGIN:VEVENT
DTSTART;TZID=America/New_York:20211208T080000
DTEND;TZID=America/New_York:20211208T170000
DTSTAMP:20260421T125755
CREATED:20210504T204130Z
LAST-MODIFIED:20211201T203432Z
UID:4121-1638950400-1638982800@misionerasteresitas.org
SUMMARY:Inmaculada Concepción de a Virgen María/ Solemnidad
DESCRIPTION:8 diciembre Fiesta de la Inmaculada Concepción\, Patrona principal de la Congregación\, Renovación Hermanas Perpetuas.\n\n\nEn 1854\, el Papa Pío IX  Proclamo este titulo de la Virgen María como Dogma de Mariano de la Iglesia\, en la bula Ineffabilis Deus.  En 1929\, nuestro fundador\, el Ven.Miguel Angel Builes\, nos consagró a esta advocación Mariana y nos coloco como Patrona Principal de nuestra Congregación\, María nos cuida y protege\, al igual que a toda la iglesia\, como buena Madre.\n\n\nTe invitamos a conocer de donde surge nuestro amor a la Virgen María:  https://youtu.be/A6j4kG-uwUE 
URL:https://misionerasteresitas.org/evento/inmaculada-concepcion-de-a-virgen-maria-solemnidad/
ATTACH;FMTTYPE=image/jpeg:https://misionerasteresitas.org/wp-content/uploads/2021/05/Inmaculada-concepcion.jpg
END:VEVENT
BEGIN:VEVENT
DTSTART;TZID=America/New_York:20211208T080000
DTEND;TZID=America/New_York:20211208T170000
DTSTAMP:20260421T125755
CREATED:20210504T204200Z
LAST-MODIFIED:20210504T204200Z
UID:4123-1638950400-1638982800@misionerasteresitas.org
SUMMARY:Renovación de Votos Perpetuos.
DESCRIPTION:
URL:https://misionerasteresitas.org/evento/renovacion-de-votos-perpetuos/
END:VEVENT
END:VCALENDAR