BEGIN:VCALENDAR
VERSION:2.0
PRODID:-//Misioneras Teresitas - ECPv6.3.2//NONSGML v1.0//EN
CALSCALE:GREGORIAN
METHOD:PUBLISH
X-WR-CALNAME:Misioneras Teresitas
X-ORIGINAL-URL:https://misionerasteresitas.org
X-WR-CALDESC:Eventos para Misioneras Teresitas
REFRESH-INTERVAL;VALUE=DURATION:PT1H
X-Robots-Tag:noindex
X-PUBLISHED-TTL:PT1H
BEGIN:VTIMEZONE
TZID:America/New_York
BEGIN:DAYLIGHT
TZOFFSETFROM:-0500
TZOFFSETTO:-0400
TZNAME:EDT
DTSTART:20210314T070000
END:DAYLIGHT
BEGIN:STANDARD
TZOFFSETFROM:-0400
TZOFFSETTO:-0500
TZNAME:EST
DTSTART:20211107T060000
END:STANDARD
END:VTIMEZONE
BEGIN:VEVENT
DTSTART;TZID=America/New_York:20211121T080000
DTEND;TZID=America/New_York:20211121T170000
DTSTAMP:20260421T114033
CREATED:20210504T203509Z
LAST-MODIFIED:20210504T203509Z
UID:4099-1637481600-1637514000@misionerasteresitas.org
SUMMARY:Cristo Rey/Solemnidad
DESCRIPTION:
URL:https://misionerasteresitas.org/evento/cristo-rey-solemnidad/
END:VEVENT
END:VCALENDAR