BEGIN:VCALENDAR
VERSION:2.0
PRODID:-//Misioneras Teresitas - ECPv6.3.2//NONSGML v1.0//EN
CALSCALE:GREGORIAN
METHOD:PUBLISH
X-ORIGINAL-URL:https://misionerasteresitas.org
X-WR-CALDESC:Eventos para Misioneras Teresitas
REFRESH-INTERVAL;VALUE=DURATION:PT1H
X-Robots-Tag:noindex
X-PUBLISHED-TTL:PT1H
BEGIN:VTIMEZONE
TZID:America/New_York
BEGIN:DAYLIGHT
TZOFFSETFROM:-0500
TZOFFSETTO:-0400
TZNAME:EDT
DTSTART:20210314T070000
END:DAYLIGHT
BEGIN:STANDARD
TZOFFSETFROM:-0400
TZOFFSETTO:-0500
TZNAME:EST
DTSTART:20211107T060000
END:STANDARD
END:VTIMEZONE
BEGIN:VEVENT
DTSTART;TZID=America/New_York:20211102T080000
DTEND;TZID=America/New_York:20211102T170000
DTSTAMP:20260421T114124
CREATED:20210504T202950Z
LAST-MODIFIED:20210504T202950Z
UID:4079-1635840000-1635872400@misionerasteresitas.org
SUMMARY:Fieles Difuntos/Solemnidad
DESCRIPTION:
URL:https://misionerasteresitas.org/evento/fieles-difuntos-solemnidad/
END:VEVENT
BEGIN:VEVENT
DTSTART;TZID=America/New_York:20211102T080000
DTEND;TZID=America/New_York:20211102T170000
DTSTAMP:20260421T114124
CREATED:20210504T203019Z
LAST-MODIFIED:20210504T203019Z
UID:4081-1635840000-1635872400@misionerasteresitas.org
SUMMARY:2-8 Programación.
DESCRIPTION:
URL:https://misionerasteresitas.org/evento/2-8-programacion/
END:VEVENT
END:VCALENDAR