BEGIN:VCALENDAR
VERSION:2.0
PRODID:-//Misioneras Teresitas - ECPv6.3.2//NONSGML v1.0//EN
CALSCALE:GREGORIAN
METHOD:PUBLISH
X-WR-CALNAME:Misioneras Teresitas
X-ORIGINAL-URL:https://misionerasteresitas.org
X-WR-CALDESC:Eventos para Misioneras Teresitas
REFRESH-INTERVAL;VALUE=DURATION:PT1H
X-Robots-Tag:noindex
X-PUBLISHED-TTL:PT1H
BEGIN:VTIMEZONE
TZID:America/New_York
BEGIN:DAYLIGHT
TZOFFSETFROM:-0500
TZOFFSETTO:-0400
TZNAME:EDT
DTSTART:20210314T070000
END:DAYLIGHT
BEGIN:STANDARD
TZOFFSETFROM:-0400
TZOFFSETTO:-0500
TZNAME:EST
DTSTART:20211107T060000
END:STANDARD
END:VTIMEZONE
BEGIN:VEVENT
DTSTART;TZID=America/New_York:20210411T080000
DTEND;TZID=America/New_York:20210411T170000
DTSTAMP:20260421T101511
CREATED:20210504T005050Z
LAST-MODIFIED:20210504T005050Z
UID:3637-1618128000-1618160400@misionerasteresitas.org
SUMMARY:La Divina Misericordia
DESCRIPTION:
URL:https://misionerasteresitas.org/evento/la-divina-misericordia/
END:VEVENT
BEGIN:VEVENT
DTSTART;TZID=America/New_York:20210411T080000
DTEND;TZID=America/New_York:20210411T170000
DTSTAMP:20260421T101511
CREATED:20210504T005149Z
LAST-MODIFIED:20210504T005149Z
UID:3645-1618128000-1618160400@misionerasteresitas.org
SUMMARY:Aniversario 92 de fundación de la Congregación.
DESCRIPTION:
URL:https://misionerasteresitas.org/evento/aniversario-92-de-fundacion-de-la-congregacion/
END:VEVENT
BEGIN:VEVENT
DTSTART;TZID=America/New_York:20210411T080000
DTEND;TZID=America/New_York:20210411T170000
DTSTAMP:20260421T101511
CREATED:20210504T005232Z
LAST-MODIFIED:20210504T005232Z
UID:3647-1618128000-1618160400@misionerasteresitas.org
SUMMARY:Aniversario fundación Teresita Cont.
DESCRIPTION:
URL:https://misionerasteresitas.org/evento/aniversario-fundacion-teresita-cont/
END:VEVENT
END:VCALENDAR